	BEGIN:VCALENDAR
VERSION:2.0
PRODID:-//Facultatea de Drept - ECPv6.15.20//NONSGML v1.0//EN
CALSCALE:GREGORIAN
METHOD:PUBLISH
X-WR-CALNAME:Facultatea de Drept
X-ORIGINAL-URL:https://drept.ulbsibiu.ro
X-WR-CALDESC:Evenimente pentru Facultatea de Drept
REFRESH-INTERVAL;VALUE=DURATION:PT1H
X-Robots-Tag:noindex
X-PUBLISHED-TTL:PT1H
BEGIN:VTIMEZONE
TZID:Europe/Bucharest
BEGIN:DAYLIGHT
TZOFFSETFROM:+0200
TZOFFSETTO:+0300
TZNAME:EEST
DTSTART:20250330T010000
END:DAYLIGHT
BEGIN:STANDARD
TZOFFSETFROM:+0300
TZOFFSETTO:+0200
TZNAME:EET
DTSTART:20251026T010000
END:STANDARD
BEGIN:DAYLIGHT
TZOFFSETFROM:+0200
TZOFFSETTO:+0300
TZNAME:EEST
DTSTART:20260329T010000
END:DAYLIGHT
BEGIN:STANDARD
TZOFFSETFROM:+0300
TZOFFSETTO:+0200
TZNAME:EET
DTSTART:20261025T010000
END:STANDARD
BEGIN:DAYLIGHT
TZOFFSETFROM:+0200
TZOFFSETTO:+0300
TZNAME:EEST
DTSTART:20270328T010000
END:DAYLIGHT
BEGIN:STANDARD
TZOFFSETFROM:+0300
TZOFFSETTO:+0200
TZNAME:EET
DTSTART:20271031T010000
END:STANDARD
END:VTIMEZONE
BEGIN:VEVENT
DTSTART;TZID=Europe/Bucharest:20260514T080000
DTEND;TZID=Europe/Bucharest:20260515T170000
DTSTAMP:20260424T192901
CREATED:20260424T063642Z
LAST-MODIFIED:20260424T063721Z
UID:12073-1778745600-1778864400@drept.ulbsibiu.ro
SUMMARY:Conferința Internațională de Criminalistică „Emilian Stancu” – Ediția a V-a
DESCRIPTION:CONFERINȚA INTERNAȚIONALĂ DE CRIMINALISTICĂ\n”EMILIAN STANCU” Ediția a – V-a \n”CRIMINALISTICA – DE LA ȘTIINȚĂ\, PRIN TEHNOLOGIE\, LA PROCESUL JUDICIAR” \nUniversitatea „Lucian Blaga” din Sibiu\, prin Facultatea de Drept\, împreună cu Universitatea din București\, Facultatea de Drept și Universitatea ”Ovidius” din Constanța\, Facultatea de Drept și Științe Administrative\, în parteneriat cu alte universități \, cu institutii academice si profesionale din tara si strainatate\, organizeaza in perioada 14-15 mai 2026\, la Sibiu\, Conferinta Internationala de Criminalistica „Emilian Stancu” – Editia a V-a.\nEvenimentul reuneste specialisti\, cadre universitare\, cercetatori\, doctoranzi\, studenti si practicieni din domeniul criminalisticii si stiintelor penale\, avand ca obiectiv promovarea cercetarii stiintifice\, schimbul de bune practici si consolidarea cooperarii interinstitutionale la nivel national si international.
URL:https://drept.ulbsibiu.ro/evenimente/conferinta-internationala-de-criminalistica-emilian-stancu-editia-a-v-a/
LOCATION:Aula Avram Iancu – Facultatea de Litere și Arte\, Bulevardul Victoriei nr. 5-7\, Sibiu\, Sibiu\, 550024\, Romania
CATEGORIES:2026
ATTACH;FMTTYPE=image/jpeg:https://drept.ulbsibiu.ro/wp-content/uploads/2026/04/Afis-Criminalistica-scaled.jpg
ORGANIZER;CN="Facultatea de Drept":MAILTO:drept@ulbsibiu.ro
END:VEVENT
END:VCALENDAR